BEGIN:VCALENDAR
VERSION:2.0
PRODID:
BEGIN:VEVENT
UID:119963mb
DTSTAMP:20260420T100708Z
DTSTART:20260421T180000Z
DTEND:20260421T200000Z
SUMMARY: Surgent's Unconscious Bias for Managers\, Supervisors & Executives
DESCRIPTION: Understanding unconscious bias is key to creating an inclusive workplace and to making the best business decisions. This course explores the concept of unconscious bias\, the science behind it and how it can affect the way employers hire\, evaluate and treat employees. We will also discuss strategies employers can use to reduce unconscious bias and create a more inclusive workplace\n 
CLASS:PUBLIC
END:VEVENT
END:VCALENDAR
