BEGIN:VCALENDAR
VERSION:2.0
PRODID:
BEGIN:VEVENT
UID:121560mb
DTSTAMP:20260420T100734Z
DTSTART:20260421T180000Z
DTEND:20260421T200000Z
SUMMARY: Surgent's Real Estate for Accounting & Finance Professionals
DESCRIPTION: Explore the intricacies of federal income taxation as it intertwines with rental real estate activities. This course delves into the calculation of rental income\, understanding the nuances of deductions and unraveling the complexities of passive activity loss rules. Whether it's mastering Schedule E or understanding Congress' intent behind tax laws\, professionals will leave with an enriched understanding\n 
CLASS:PUBLIC
END:VEVENT
END:VCALENDAR
