BEGIN:VCALENDAR
VERSION:2.0
PRODID:
BEGIN:VEVENT
UID:122550mb
DTSTAMP:20260420T102330Z
DTSTART:20260421T153000Z
DTEND:20260421T173000Z
SUMMARY: Tax Talks: April 2026
DESCRIPTION: Join the Team from Hochman\, Salkin\, Toscher\, & Perez for a LIVE tax-based series with a new topic at each Session. Past conversations have included crypto tax compliance\, BBA Partnerships\, Federal and State Residency issues\, Partnership examinations\, Form 8300 and more. Check back regularly for topics and be sure to register for them all. June 2025 August 2025 November 2025 December 2025 January 2026 April 2026\n  
CLASS:PUBLIC
END:VEVENT
END:VCALENDAR
