BEGIN:VCALENDAR
VERSION:2.0
PRODID:
BEGIN:VEVENT
UID:122919mb
DTSTAMP:20260420T100538Z
DTSTART:20260421T143000Z
DTEND:20260421T223000Z
SUMMARY: Everything You Need to Know About Trusts 25-26
DESCRIPTION: An overview of trust laws and a review of general concepts. Common structures and review of some more advanced trust planning issues. Extensive coverage planning issues through a discussion of trust administration. The discussion covers special needs planning\, asset protection\, gift and estate tax planning\, use of most common trusts and portability versus A-B and A-B-C trusts\n 
CLASS:PUBLIC
END:VEVENT
END:VCALENDAR
