BEGIN:VCALENDAR
VERSION:2.0
PRODID:
BEGIN:VEVENT
UID:122934mb
DTSTAMP:20260420T100802Z
DTSTART:20260421T143000Z
DTEND:20260421T183000Z
SUMMARY: Tax Practice Conduct Standards: Circular 230 & AICPA Statements 25-26
DESCRIPTION: Meet the ethics requirement while addressing significant changes in the statutory and regulatory standards that govern tax practitioners. We'll explore rules that govern professional conduct in tax practice\, including responsibilities to advise clients on tax positions and related penalty avoidance. Portions of course materials are from Kip Dellinger's Practical Guide to Federal Tax Practice Standards (CCH)\n Note: This course qualifies to count toward the WICPA membership Ethics CPE requirement\n 
CLASS:PUBLIC
END:VEVENT
END:VCALENDAR
