BEGIN:VCALENDAR
VERSION:2.0
PRODID:
BEGIN:VEVENT
UID:123803mb
DTSTAMP:20260419T131808Z
DTSTART:20260513T130000Z
DTEND:20260513T210000Z
SUMMARY: Leases: Mastering the New FASB Requirements
DESCRIPTION: Key aspects of FASB ASC 842\, *Leases*\, including lease modifications\, sale and leaseback transactions and leveraged leases are covered for practitioners looking to understand FASB requirements\n 
CLASS:PUBLIC
END:VEVENT
END:VCALENDAR
