BEGIN:VCALENDAR
VERSION:2.0
PRODID:
BEGIN:VEVENT
UID:123804mb
DTSTAMP:20260419T163048Z
DTSTART:20260515T170000Z
DTEND:20260515T210000Z
SUMMARY: Auditing Financial Statements of ERISA Plans
DESCRIPTION: You'll gain an understanding of the statements\, disclosures and considerations for plans that file Form 11-K and learn ways to plan and conduct effective risk-based ERISA plan audits\n 
CLASS:PUBLIC
END:VEVENT
END:VCALENDAR
