BEGIN:VCALENDAR
VERSION:2.0
PRODID:
BEGIN:VEVENT
UID:123805mb
DTSTAMP:20260419T143713Z
DTSTART:20260514T180000Z
DTEND:20260514T200000Z
SUMMARY: Current Audit Environment & ASB Activity
DESCRIPTION: New pronouncements from ASB are covered so you can be up to date on ASB activities and understand how to apply the guidance\n 
CLASS:PUBLIC
END:VEVENT
END:VCALENDAR
