BEGIN:VCALENDAR
VERSION:2.0
PRODID:
BEGIN:VEVENT
UID:123806mb
DTSTAMP:20260419T144339Z
DTSTART:20260514T160000Z
DTEND:20260514T180000Z
SUMMARY: Current & Upcoming FASB Issues
DESCRIPTION: You'll learn about current and upcoming requirements in accounting standards (except financial instruments and leases) and understand how to apply the guidance in practice\n 
CLASS:PUBLIC
END:VEVENT
END:VCALENDAR
