BEGIN:VCALENDAR
VERSION:2.0
PRODID:
BEGIN:VEVENT
UID:123915mb
DTSTAMP:20260420T100603Z
DTSTART:20260421T140000Z
DTEND:20260421T150000Z
SUMMARY: Controller Series: Communicating for Connections With Coworkers\, Customers & Stakeholders
DESCRIPTION: This session will discuss different personality styles and demonstrate the different ways to communicate information to them\n 
CLASS:PUBLIC
END:VEVENT
END:VCALENDAR
