BEGIN:VCALENDAR
VERSION:2.0
PRODID:
BEGIN:VEVENT
UID:123952mb
DTSTAMP:20260420T191119Z
DTSTART:20260626T170000Z
DTEND:20260626T180000Z
SUMMARY: Controller Series: Technology: Must Have Excel Competencies
DESCRIPTION: This session will cover what the accountants of today should know about Excel to improve their efficiency\, access data and gain insights into the company\, industry and economy\n 
CLASS:PUBLIC
END:VEVENT
END:VCALENDAR
