BEGIN:VCALENDAR
VERSION:2.0
PRODID:
BEGIN:VEVENT
UID:123956mb
DTSTAMP:20260420T064431Z
DTSTART:20260605T150000Z
DTEND:20260605T160000Z
SUMMARY: Futuristic Audit Trends: The Future is Now
DESCRIPTION: In this session\, you'll learn how to take advantage of cloud technology\, AI\, machine learning and blockchain to streamline your workflow and utilize remote applications and also how to utilize ecosystem applications to create more profitable engagements and a better work environment for your teams.\n 
CLASS:PUBLIC
END:VEVENT
END:VCALENDAR
