BEGIN:VCALENDAR
VERSION:2.0
PRODID:
BEGIN:VEVENT
UID:123957mb
DTSTAMP:20260420T051707Z
DTSTART:20260604T130000Z
DTEND:20260604T140000Z
SUMMARY: MBAExpress: Effective Change Management: V 2.0
DESCRIPTION: Learn methods and ideas for navigating turbulent waters when dealing with change\n 
CLASS:PUBLIC
END:VEVENT
END:VCALENDAR
