BEGIN:VCALENDAR
VERSION:2.0
PRODID:
BEGIN:VEVENT
UID:123958mb
DTSTAMP:20260421T223544Z
DTSTART:20260609T170000Z
DTEND:20260609T180000Z
SUMMARY: MBAExpress: Essence of Entrepreneurship: V 2.0
DESCRIPTION: An entrepreneur is defined as "a person who starts a business and is willing to risk loss in order to make money." Join us to learn about non-traditional business plans\, challenges of entrepreneurship and more\n 
CLASS:PUBLIC
END:VEVENT
END:VCALENDAR
