BEGIN:VCALENDAR
VERSION:2.0
PRODID:
BEGIN:VEVENT
UID:123959mb
DTSTAMP:20260419T175558Z
DTSTART:20260518T170000Z
DTEND:20260518T203000Z
SUMMARY: Ethics: Critical Thinking\, Case Studies & Fraud
DESCRIPTION: This course will explore the basic tenets of ethical behavior and use case studies to explore ethical dilemmas in various companies and organizations\, with special focus on the AICPA Code of Professional Conduct and AU-C Section 315\n Note: This course qualifies to count toward the WICPA membership Ethics CPE requirement\n 
CLASS:PUBLIC
END:VEVENT
END:VCALENDAR
