BEGIN:VCALENDAR
VERSION:2.0
PRODID:
BEGIN:VEVENT
UID:123960mb
DTSTAMP:20260419T224612Z
DTSTART:20260522T170000Z
DTEND:20260522T190000Z
SUMMARY: Ethics & Professional Conduct
DESCRIPTION: During this comprehensive seminar\, you will gain an in-depth understanding of the six essential elements of the AICPA Code of Conduct and how they apply to public accountants\n Note: This course qualifies to count toward the WICPA membership Ethics CPE requirement\n 
CLASS:PUBLIC
END:VEVENT
END:VCALENDAR
