BEGIN:VCALENDAR
VERSION:2.0
PRODID:
BEGIN:VEVENT
UID:123961mb
DTSTAMP:20260420T034422Z
DTSTART:20260528T140000Z
DTEND:20260528T160000Z
SUMMARY: Ethics With A Dash of Courage
DESCRIPTION: This facilitated discussion goes beyond a lecture on ethical principles - it is a series of executive level case studies that offer participants "real time" practice in resolving dilemmas\, with participants sharpening their critical thinking skills\n Note: This course qualifies to count toward the WICPA membership Ethics CPE requirement\n 
CLASS:PUBLIC
END:VEVENT
END:VCALENDAR
