BEGIN:VCALENDAR
VERSION:2.0
PRODID:
BEGIN:VEVENT
UID:123978mb
DTSTAMP:20260420T021116Z
DTSTART:20260529T170000Z
DTEND:20260529T180000Z
SUMMARY: Thanks for the Feedback: Lessons in Giving & Receiving Feedback
DESCRIPTION: This session will cover the three types of feedback\, the barriers to receiving good feedback and how we can be empowered to seek feedback for our own growth\n 
CLASS:PUBLIC
END:VEVENT
END:VCALENDAR
