BEGIN:VCALENDAR
VERSION:2.0
PRODID:
BEGIN:VEVENT
UID:123980mb
DTSTAMP:20260420T113135Z
DTSTART:20260616T140000Z
DTEND:20260616T151000Z
SUMMARY: Let Go & Lead: The Crucial Art of Delegation
DESCRIPTION: This session will help you learn the secret to delegation: when to delegate\, what to delegate and to whom you should be delegating\n 
CLASS:PUBLIC
END:VEVENT
END:VCALENDAR
