BEGIN:VCALENDAR
VERSION:2.0
PRODID:
BEGIN:VEVENT
UID:124028mb
DTSTAMP:20260419T144637Z
DTSTART:20260514T190000Z
DTEND:20260514T200000Z
SUMMARY: Key Financial & Economic Issues Facing the Financial Executive
DESCRIPTION: The webcast explores the challenges of the current economic trends and analyzes their impact on you as the financial executive\n 
CLASS:PUBLIC
END:VEVENT
END:VCALENDAR
