BEGIN:VCALENDAR
VERSION:2.0
PRODID:
BEGIN:VEVENT
UID:124029mb
DTSTAMP:20260419T193942Z
DTSTART:20260519T170000Z
DTEND:20260519T182000Z
SUMMARY: Navigating the AI Landscape: An Introduction to Generative AI & ChatGPT for Accounting Professionals
DESCRIPTION: Learn how to use ChatGPT to streamline your workload\, save time and boost efficiency\n 
CLASS:PUBLIC
END:VEVENT
END:VCALENDAR
