BEGIN:VCALENDAR
VERSION:2.0
PRODID:
BEGIN:VEVENT
UID:124030mb
DTSTAMP:20260420T083521Z
DTSTART:20260612T140000Z
DTEND:20260612T150000Z
SUMMARY: AI-Powered Excel: Leveraging AI & ChatGPT for Supercharged Productivity
DESCRIPTION: This course will have you streamlining your Excel work\, research and documentation\, saving you time and effort in your day-to-day tasks\n 
CLASS:PUBLIC
END:VEVENT
END:VCALENDAR
