BEGIN:VCALENDAR
VERSION:2.0
PRODID:
BEGIN:VEVENT
UID:124031mb
DTSTAMP:20260419T144610Z
DTSTART:20260513T180000Z
DTEND:20260513T190000Z
SUMMARY: Next Steps Series - Greatness: Building a Productive\, Resilient Workforce
DESCRIPTION: In this course we will look at improving a process that is deeply flawed and we will look objectively and outside the box on things we can do to identify and hire high performers\n 
CLASS:PUBLIC
END:VEVENT
END:VCALENDAR
