BEGIN:VCALENDAR
VERSION:2.0
PRODID:
BEGIN:VEVENT
UID:124032mb
DTSTAMP:20260419T144606Z
DTSTART:20260515T130000Z
DTEND:20260515T154000Z
SUMMARY: Business Case for Designing an Experience-Led Organization
DESCRIPTION: This course educates business leaders on the changing market conditions of our Experience Economy\, where experience-led brands have begun to dominate\n 
CLASS:PUBLIC
END:VEVENT
END:VCALENDAR
