BEGIN:VCALENDAR
VERSION:2.0
PRODID:
BEGIN:VEVENT
UID:124033mb
DTSTAMP:20260419T115625Z
DTSTART:20260511T130000Z
DTEND:20260511T150000Z
SUMMARY: Ethics in the World of AI: An Accountant's Guide to Managing the Risks
DESCRIPTION: In this webcast we will discuss the current uses of AI in business\, nine risk areas and the provide practical suggestions to address these risks effectively\n Note: This course qualifies to count toward the WICPA membership Ethics CPE requirement\n 
CLASS:PUBLIC
END:VEVENT
END:VCALENDAR
