BEGIN:VCALENDAR
VERSION:2.0
PRODID:
BEGIN:VEVENT
UID:124079mb
DTSTAMP:20260420T003949Z
DTSTART:20260528T130000Z
DTEND:20260528T210000Z
SUMMARY: Audits of Employee Benefit Plans Subject to ERISA
DESCRIPTION: Employee benefit plan audits are examined to help you understand the intricacies of EBP planning\, reporting and compliance with applicable auditing standards\n 
CLASS:PUBLIC
END:VEVENT
END:VCALENDAR
