BEGIN:VCALENDAR
VERSION:2.0
PRODID:
BEGIN:VEVENT
UID:125051mb
DTSTAMP:20260420T095430Z
DTSTART:20260421T163000Z
DTEND:20260421T183000Z
SUMMARY: Exercise Your Ethics: Techniques to Improve Ethical Response
DESCRIPTION: Many courses highlight ethical failures - this course goes beyond that. This course identifies the many barriers to ethical behavior\, focuses on habits and techniques that improve ethics and offer ways to practice so that the ethical "muscle" is ready for any dilemma. This course incorporates ideas from leading ethical authors and  includes data from the ACFE Report to the Nations.

This event may be a rebroadcast of a live event and the instructor will be available to answer your questions during the event\n Note: This course qualifies to count toward the WICPA membership Ethics CPE requirement\n 
CLASS:PUBLIC
END:VEVENT
END:VCALENDAR
