BEGIN:VCALENDAR
VERSION:2.0
PRODID:
BEGIN:VEVENT
UID:126331mb
DTSTAMP:20260420T095348Z
DTSTART:20260420T190000Z
DTEND:20260420T210000Z
SUMMARY: Yellow Book Update 2025
DESCRIPTION: More and more entities need Yellow Book engagements\, including a growing number of for-profit entities. In this course\, we will review the unique independence requirements in GAGAS. We'll also review the recent changes to quality management in Yellow Book. We'll close with a reminder of common deficiencies found in Yellow Book engagements.


This event may be a rebroadcast of a live event and the instructor will be available to answer your questions during the event\n 
CLASS:PUBLIC
END:VEVENT
END:VCALENDAR
