BEGIN:VCALENDAR
VERSION:2.0
PRODID:
BEGIN:VEVENT
UID:127089mb
DTSTAMP:20260420T095349Z
DTSTART:20260421T170000Z
DTEND:20260421T190000Z
SUMMARY: Mastering Microsoft 365 Copilot for CPAs
DESCRIPTION: Discover how Microsoft 365 Copilot can revolutionize your daily tasks as a CPA. Dive into the specific features and functionalities of this AI-powered assistant. Learn how to leverage Copilot to enhance productivity\, automate routine tasks and improve collaboration within your team.


This event may be a rebroadcast of a live event and the instructor will be available to answer your questions during the event\n 
CLASS:PUBLIC
END:VEVENT
END:VCALENDAR
