BEGIN:VCALENDAR
VERSION:2.0
PRODID:
BEGIN:VEVENT
UID:127753mb
DTSTAMP:20260420T100720Z
DTSTART:20260420T203000Z
DTEND:20260420T213000Z
SUMMARY: I Spy With My Little Eye ... an Illegality
DESCRIPTION: In the fight against global corruption\, accountants are being asked to be more forthcoming when they discover information or evidence that points to illegal or prohibited activities. This ethics workshop considers new international professional ethics proposals for responding to non-compliance with laws and regulations (NOCLAR).

This event may be a rebroadcast of a live event and the instructor will be available to answer your questions during the event\n Note: This course qualifies to count toward the WICPA membership Ethics CPE requirement\n 
CLASS:PUBLIC
END:VEVENT
END:VCALENDAR
