BEGIN:VCALENDAR
VERSION:2.0
PRODID:
BEGIN:VEVENT
UID:129523mb
DTSTAMP:20260420T100632Z
DTSTART:20260421T153000Z
DTEND:20260421T173000Z
SUMMARY: Money Laundering Awareness for Accountants
DESCRIPTION: The course provides general information on how to identify money laundering activities during the conduct of normal tax audits. Discover key resources and tools available for effective detection and deterrence. Explore the impact of money laundering on ethical decision-making and how examiners and auditors can assist criminal investigators in countering money laundering.

This event may be a rebroadcast of a live event and the instructor will be available to answer your questions during the event\n Note: This course qualifies to count toward the WICPA membership Ethics CPE requirement\n 
CLASS:PUBLIC
END:VEVENT
END:VCALENDAR
