BEGIN:VCALENDAR
VERSION:2.0
PRODID:
BEGIN:VEVENT
UID:129549mb
DTSTAMP:20260420T095410Z
DTSTART:20260420T183000Z
DTEND:20260420T203000Z
SUMMARY: Using e-Signature Software to Process Agreements-Updated
DESCRIPTION: Transforming your practice or business to a digital model is a journey\, not a destination. There are some digital initiatives that require a great deal of time and money to deploy. There are also many "low hanging fruit" initiatives that are relatively easy and inexpensive to deploy. E-signature software is a perfect example of the latter. John Higgins\, a nationally recognized leader in accounting technology\, will guide you through the process of evaluating\, selecting and implementing e-signature software to streamline a solution and secure your document signing processes. You will be surprised to discover how easy it is to take your engagement letter and contract signing workflow digital.

This event may be a rebroadcast of a live event and the instructor will be available to answer your questions during the event\n 
CLASS:PUBLIC
END:VEVENT
END:VCALENDAR
