BEGIN:VCALENDAR
VERSION:2.0
PRODID:
BEGIN:VEVENT
UID:129581mb
DTSTAMP:20260420T095231Z
DTSTART:20260421T150000Z
DTEND:20260421T170000Z
SUMMARY: Ethical Intelligence for Artificial Intelligence
DESCRIPTION: Organizations and individuals enticed by the siren song of artificial intelligence cannot ignore ethical considerations. Professionals must consider accuracy of information\, data privacy\, independence\, source citations\, organizational policies\, security\, data retention and other ethical matters. This course discusses ethical issues associated with the utilization of AI in a professional setting and provides suggested best practices.

This event may be a rebroadcast of a live event and the instructor will be available to answer your questions during the event\n Note: This course qualifies to count toward the WICPA membership Ethics CPE requirement\n 
CLASS:PUBLIC
END:VEVENT
END:VCALENDAR
