BEGIN:VCALENDAR
VERSION:2.0
PRODID:
BEGIN:VEVENT
UID:136879mb
DTSTAMP:20260419T163133Z
DTSTART:20260516T140000Z
DTEND:20260516T154700Z
SUMMARY: Leaders Eat Last. Why? The Characteristics of Great Leaders
DESCRIPTION: If a great leader is someone we are willing to sacrifice for: what do those leaders do that makes us want to do more? Many of us work in dysfunctional organizations that want followers\, but have no leaders that lead. What makes a leader effective? True leaders sacrifice\, they are trustworthy and they empathize. We discuss the steps to take so you can become a true leader: including\, integrity\, humility\, communication\, self-control and self-awareness. With diligence\, you can become a better leader and we will discuss how\n 
CLASS:PUBLIC
END:VEVENT
END:VCALENDAR
