BEGIN:VCALENDAR
VERSION:2.0
PRODID:
BEGIN:VEVENT
UID:136893mb
DTSTAMP:20260421T045015Z
DTSTART:20260509T160000Z
DTEND:20260509T165500Z
SUMMARY: Accommodation Requests: Substance Abuse: Contagious Infections
DESCRIPTION: Good judgment works well in handling most employee relations matters. However\, there are special situations where legal requirements dictate specific handling to avoid significant personal and employer liability. This course provides practical knowledge and scripts for responding to requests for accommodation regarding religious practices or disabilities\, confronting employees in substance-abuse situations and handling disclosures of contagious infections so that individual is properly helped and the health of your workforce is protected\n 
CLASS:PUBLIC
END:VEVENT
END:VCALENDAR
