BEGIN:VCALENDAR
VERSION:2.0
PRODID:
BEGIN:VEVENT
UID:136905mb
DTSTAMP:20260421T235655Z
DTSTART:20260610T200000Z
DTEND:20260610T205900Z
SUMMARY: Balancing Employee & Employer Rights
DESCRIPTION: Leaders have the right to exercise customary management functions. Employees have the right to be kept free from discrimination. Neither employer rights nor employee rights are absolute. The courts are equally protective of the rights of employees and employers. A courtroom is the wrong place for anyone to find this out. This course provides practical knowledge on how to effectively balancing these two sets of rights\, such that employees and leaders stay out of court. Employers avoid lawsuits\, rather than win lawsuits\n 
CLASS:PUBLIC
END:VEVENT
END:VCALENDAR
