BEGIN:VCALENDAR
VERSION:2.0
PRODID:
BEGIN:VEVENT
UID:136918mb
DTSTAMP:20260420T033459Z
DTSTART:20260529T200000Z
DTEND:20260529T210200Z
SUMMARY: Maintaining a Harmonious Working Environment
DESCRIPTION: A harmonious working environment is one in which people feel safe\, seen\, heard and respected. Critical to maintaining it are that employees have high self-esteem\, are treated with respect and work in a safe\, non-violent setting. This course provides practical knowledge and scripts on how to take appropriate action and deal effectively with discriminatory comments\, sexual harassment and threats and acts of violence\, such that personal and employer liability is avoided\n 
CLASS:PUBLIC
END:VEVENT
END:VCALENDAR
