BEGIN:VCALENDAR
VERSION:2.0
PRODID:
BEGIN:VEVENT
UID:136946mb
DTSTAMP:20260419T180058Z
DTSTART:20260519T140000Z
DTEND:20260519T150400Z
SUMMARY: Addressing Misconduct
DESCRIPTION: The objective of corrective action is to change conduct through teaching. Corrective action may be sequential\, out of order\, repetitive\, or not appropriate to take at all. The action selected should reflect the type\, frequency and severity of the misconduct. Changing conduct through teaching requires effective employee relations skills. This course provides practical knowledge and scripts for handling a wide array of sensitive misconduct situations with good judgment\, such that personal and employer liability is avoided\n 
CLASS:PUBLIC
END:VEVENT
END:VCALENDAR
