BEGIN:VCALENDAR
VERSION:2.0
PRODID:
BEGIN:VEVENT
UID:136997mb
DTSTAMP:20260419T211205Z
DTSTART:20260521T230000Z
DTEND:20260522T023600Z
SUMMARY: Dashboard & Report Design Principles Using Excel
DESCRIPTION: Transform your data presentation skills with our comprehensive course on creating impactful dashboards and reports using Excel. This workshop is tailored for professionals who:


	Regularly produce or update dashboards and reports
	Struggle with confusing or overly complex reporting tools
	Seek to streamline varied reporting styles across their organization
	Aim to establish a consistent\, replicable "house style" for reporting
	Want to impress stakeholders with clear\, user-friendly data presentations


Through a combination of theory and hands-on practice\, you'll learn the fundamental principles that make reports and dashboards easy to understand. We'll distill these concepts into a set of practical rules and guide you through their application in Excel\n 
CLASS:PUBLIC
END:VEVENT
END:VCALENDAR
