BEGIN:VCALENDAR
VERSION:2.0
PRODID:
BEGIN:VEVENT
UID:137086mb
DTSTAMP:20260420T051753Z
DTSTART:20260603T200000Z
DTEND:20260603T210200Z
SUMMARY: HR Investigations: Episode 1: Introduction-Assessing-Planning
DESCRIPTION: Human Resources professionals are often tasked with investigating allegations of employee misconduct\, discrimination and others. Investigation training is traditionally presented from the position of an outsider looking in\, such as a governmental agency\, law firm\, or private investigator. HR investigations require similar skills\, but the environment and the approach are quite different. This session is an introduction to these differences and provides best practices for assessing allegations of employee misconduct and planning the investigation. Attendees will end the session with takeaways to immediately implement in future HR investigations. Episodes 2 and 3 complete the series\n 
CLASS:PUBLIC
END:VEVENT
END:VCALENDAR
