BEGIN:VCALENDAR
VERSION:2.0
PRODID:
BEGIN:VEVENT
UID:137098mb
DTSTAMP:20260420T191258Z
DTSTART:20260627T160000Z
DTEND:20260627T180000Z
SUMMARY: HR Investigations: Episode 2: Interview Techniques
DESCRIPTION: Human Resources professionals are often tasked with investigating allegations of employee misconduct\, discrimination and others. Investigation training is traditionally presented from the position of an outsider looking in\, such as a governmental agency\, law firm\, or private investigator. HR investigations require similar skills\, but the environment and the approach are quite different. This session provides best practices for interviewing to gather accurate information\, such as creating and asking open ended questions\, effective listening and understanding verbal and non-verbal communication. Attendees will end the session with takeaways to immediately implement in future HR investigations. Two of three Episodes in the series\n 
CLASS:PUBLIC
END:VEVENT
END:VCALENDAR
