BEGIN:VCALENDAR
VERSION:2.0
PRODID:
BEGIN:VEVENT
UID:137143mb
DTSTAMP:20260420T205733Z
DTSTART:20260629T140000Z
DTEND:20260629T150100Z
SUMMARY: Ultimate Small Business HR Guide: Essential Tips for Success
DESCRIPTION: As a small business owner or manager\, navigating the complexities of HR can be challenging\, but it's crucial for your company's success. This comprehensive webinar will provide you with practical\, informative and encouraging tips to help you build a strong HR foundation for your small business.

From recruitment strategies to employee retention\, legal compliance to company culture\, we'll cover all the essential aspects of HR that will contribute to your business's growth. Let's create a thriving workplace where both your business and your employees can flourish\n 
CLASS:PUBLIC
END:VEVENT
END:VCALENDAR
