BEGIN:VCALENDAR
VERSION:2.0
PRODID:
BEGIN:VEVENT
UID:137178mb
DTSTAMP:20260420T003001Z
DTSTART:20260526T200000Z
DTEND:20260526T210000Z
SUMMARY: The Ethics Hour: Ethics is the Engine to Better Leadership: Taking Action\, featuring Bob Mims & Don Minges
DESCRIPTION: Ethics is grounded in leadership and the finest leaders are always ethical. Every effective leader is ethical\, in words and actions. The best leaders communicate effectively. Being trustworthy is more than being honest and fair. In today's turbulent environment\, leadership matters more than ever as the talented staff will readily move to ethical leaders. We must enhance our leadership skills to remain valuable. Simple stated: we all want to work for and with\, an ethical leader\n Note: This course qualifies to count toward the WICPA membership Ethics CPE requirement\n 
CLASS:PUBLIC
END:VEVENT
END:VCALENDAR
