BEGIN:VCALENDAR
VERSION:2.0
PRODID:
BEGIN:VEVENT
UID:137194mb
DTSTAMP:20260419T230607Z
DTSTART:20260526T140000Z
DTEND:20260526T150000Z
SUMMARY: The Ethics Hour: Accounting Scandals: What Happened & Why? Can We Prevent Them?\, featuring Tracy Cooper & Don Minges
DESCRIPTION: The staggering volume of accounting scandals is a scandal. What has happened and what were the root causes? Why do many financial professionals choose to do the wrong thing? What has been the cumulative impact on the profession? What can we do to enhance our professional reputation? We will discuss the many "fixes" imposed to address previous accounting scandals\, including COSO\; were they effective? We must understand that accounting fraud is prevalent and what should we look out for? Be aware. We do not want history to repeat itself\n Note: This course qualifies to count toward the WICPA membership Ethics CPE requirement\n 
CLASS:PUBLIC
END:VEVENT
END:VCALENDAR
