BEGIN:VCALENDAR
VERSION:2.0
PRODID:
BEGIN:VEVENT
UID:137210mb
DTSTAMP:20260420T003023Z
DTSTART:20260526T160000Z
DTEND:20260526T170000Z
SUMMARY: The Ethics Hour: Dealing With Conflicts of Interest: Members in Business & Industry\, featuring Don Minges
DESCRIPTION: Often a simple situation may seem innocent\, but it can lead to large complications quickly. Conflicts of interest are unavoidable and occur frequently for CPAs in business and industry. What will you do when they happen? Will you take the necessary steps to remain ethical and to protect your license? We will show you how in detail. You and I have a responsibility to our organizations and to the public to be ethical. If you do not follow the prescribed steps\, as detailed in the Code of Professional Conduct\, there will be problems. Do not forget your duty to the public\n Note: This course qualifies to count toward the WICPA membership Ethics CPE requirement\n 
CLASS:PUBLIC
END:VEVENT
END:VCALENDAR
