BEGIN:VCALENDAR
VERSION:2.0
PRODID:
BEGIN:VEVENT
UID:137222mb
DTSTAMP:20260420T003002Z
DTSTART:20260526T190000Z
DTEND:20260526T195400Z
SUMMARY: Five Ways to Improve Your Leadership Skills
DESCRIPTION: This course provides practical suggestions for improving leadership skills\, including self-awareness\, communication\, delegation\, empowerment\, coaching and counseling\n 
CLASS:PUBLIC
END:VEVENT
END:VCALENDAR
