BEGIN:VCALENDAR
VERSION:2.0
PRODID:
BEGIN:VEVENT
UID:137223mb
DTSTAMP:20260420T051915Z
DTSTART:20260603T160000Z
DTEND:20260603T165400Z
SUMMARY: Five Ways to Improve Your Leadership Skills
DESCRIPTION: This course provides practical suggestions for improving leadership skills\, including self-awareness\, communication\, delegation\, empowerment\, coaching and counseling\n 
CLASS:PUBLIC
END:VEVENT
END:VCALENDAR
