BEGIN:VCALENDAR
VERSION:2.0
PRODID:
BEGIN:VEVENT
UID:137330mb
DTSTAMP:20260419T162956Z
DTSTART:20260515T140000Z
DTEND:20260515T170000Z
SUMMARY: Managing Your Money in Retirement
DESCRIPTION: You spent your life building retirement savings. Now you want to make sure your savings last the rest of your life and perhaps pass some on to the next generation. Come hear a veteran financial educator talk about money management and planning issues for this phase of your life\n 
CLASS:PUBLIC
END:VEVENT
END:VCALENDAR
