BEGIN:VCALENDAR
VERSION:2.0
PRODID:
BEGIN:VEVENT
UID:137339mb
DTSTAMP:20260419T193824Z
DTSTART:20260520T160000Z
DTEND:20260520T190000Z
SUMMARY: Staff Retention Keep the Best People
DESCRIPTION: The COVID pandemic changed the way many people worked\, yet others have had remote teams for decades and little changed. Many organizations trying to bring people back to the office have experienced significant turnover. Some practices have changed forever while some principles will always remain the same. Keeping your people happy equals keeping your best people. Learn the changes you should make now and the things you should do forever!\n  
CLASS:PUBLIC
END:VEVENT
END:VCALENDAR
