BEGIN:VCALENDAR
VERSION:2.0
PRODID:
BEGIN:VEVENT
UID:137354mb
DTSTAMP:20260419T162854Z
DTSTART:20260515T180000Z
DTEND:20260515T200000Z
SUMMARY: Inventory Accounting GAAP\, Software & Recognizing Variances
DESCRIPTION: Many organizations struggle to keep budgets current in an ever-changing business climate. Twenty-first century performance metrics focus on determining what budgets should be rather than what they were in the past. Using performance metrics effectively reduces work\, reduces politics\, provides flexibility and substantially improves the performance management process. This session will show you powerful techniques to drive your organization's performance\n 
CLASS:PUBLIC
END:VEVENT
END:VCALENDAR
